Package: GenomicFeatures Version: 1.60.0 Command: /Library/Frameworks/R.framework/Resources/bin/R CMD build --keep-empty-dirs --no-resave-data GenomicFeatures StartedAt: 2025-10-13 19:17:34 -0400 (Mon, 13 Oct 2025) EndedAt: 2025-10-13 19:20:29 -0400 (Mon, 13 Oct 2025) EllapsedTime: 175.0 seconds RetCode: 0 Status: OK PackageFile: GenomicFeatures_1.60.0.tar.gz PackageFileSize: 555.9 KiB