Package: GenomicFeatures Version: 1.60.0 Command: rm -rf GenomicFeatures.buildbin-libdir && mkdir GenomicFeatures.buildbin-libdir && /Users/biocbuild/BBS/utils/build-universal.sh GenomicFeatures_1.60.0.tar.gz /Library/Frameworks/R.framework/Resources/bin/R GenomicFeatures.buildbin-libdir StartedAt: 2025-10-14 13:33:20 -0400 (Tue, 14 Oct 2025) EndedAt: 2025-10-14 13:35:25 -0400 (Tue, 14 Oct 2025) EllapsedTime: 124.9 seconds RetCode: 0 Status: OK PackageFile: GenomicFeatures_1.60.0.tgz PackageFileSize: 1.356 MiB