Package: GenomicFeatures Version: 1.60.0 Command: /home/biocbuild/R/R/bin/R CMD INSTALL GenomicFeatures StartedAt: 2025-10-13 20:52:51 -0000 (Mon, 13 Oct 2025) EndedAt: 2025-10-13 20:53:44 -0000 (Mon, 13 Oct 2025) EllapsedTime: 53.1 seconds RetCode: 0 Status: OK