Package: GenomicFeatures Version: 1.60.0 Command: /home/biocbuild/R/R/bin/R CMD build --keep-empty-dirs --no-resave-data GenomicFeatures StartedAt: 2025-10-14 01:05:51 -0000 (Tue, 14 Oct 2025) EndedAt: 2025-10-14 01:07:36 -0000 (Tue, 14 Oct 2025) EllapsedTime: 105.0 seconds RetCode: 0 Status: OK PackageFile: GenomicFeatures_1.60.0.tar.gz PackageFileSize: 580 KiB