Package: GenomicDistributions Version: 1.16.1 Command: /home/biocbuild/bbs-3.21-bioc/R/bin/R CMD INSTALL GenomicDistributions StartedAt: 2025-10-15 15:14:57 -0400 (Wed, 15 Oct 2025) EndedAt: 2025-10-15 15:15:12 -0400 (Wed, 15 Oct 2025) EllapsedTime: 15.5 seconds RetCode: 0 Status: OK