Package: GenomicDistributions Version: 1.16.0 Command: rm -rf GenomicDistributions.buildbin-libdir && mkdir GenomicDistributions.buildbin-libdir && /Users/biocbuild/BBS/utils/build-universal.sh GenomicDistributions_1.16.0.tar.gz /Library/Frameworks/R.framework/Resources/bin/R GenomicDistributions.buildbin-libdir StartedAt: 2025-04-22 00:47:09 -0400 (Tue, 22 Apr 2025) EndedAt: 2025-04-22 00:47:33 -0400 (Tue, 22 Apr 2025) EllapsedTime: 24.3 seconds RetCode: 0 Status: OK PackageFile: GenomicDistributions_1.16.0.tgz PackageFileSize: 5.645 MiB