Package: GenomicDistributions Version: 1.16.1 Command: /Library/Frameworks/R.framework/Resources/bin/R CMD build --keep-empty-dirs --no-resave-data GenomicDistributions StartedAt: 2025-10-14 00:59:58 -0400 (Tue, 14 Oct 2025) EndedAt: 2025-10-14 01:01:20 -0400 (Tue, 14 Oct 2025) EllapsedTime: 81.6 seconds RetCode: 0 Status: OK PackageFile: GenomicDistributions_1.16.1.tar.gz PackageFileSize: 5.952 MiB