Package: GenomicDataCommons Version: 1.32.1 Command: /Library/Frameworks/R.framework/Resources/bin/R CMD INSTALL GenomicDataCommons StartedAt: 2025-10-13 15:30:41 -0400 (Mon, 13 Oct 2025) EndedAt: 2025-10-13 15:31:06 -0400 (Mon, 13 Oct 2025) EllapsedTime: 24.9 seconds RetCode: 0 Status: OK