Package: GenomicDataCommons Version: 1.32.1 Command: rm -rf GenomicDataCommons.buildbin-libdir && mkdir GenomicDataCommons.buildbin-libdir && /Users/biocbuild/BBS/utils/build-universal.sh GenomicDataCommons_1.32.1.tar.gz /Library/Frameworks/R.framework/Resources/bin/R GenomicDataCommons.buildbin-libdir StartedAt: 2025-10-14 13:33:10 -0400 (Tue, 14 Oct 2025) EndedAt: 2025-10-14 13:33:52 -0400 (Tue, 14 Oct 2025) EllapsedTime: 42.2 seconds RetCode: 0 Status: OK PackageFile: GenomicDataCommons_1.32.1.tgz PackageFileSize: 2.017 MiB