Package: GenomicDataCommons Version: 1.32.1 Command: /home/biocbuild/R/R/bin/R CMD build --keep-empty-dirs --no-resave-data GenomicDataCommons StartedAt: 2025-10-14 01:05:41 -0000 (Tue, 14 Oct 2025) EndedAt: 2025-10-14 01:08:12 -0000 (Tue, 14 Oct 2025) EllapsedTime: 151.0 seconds RetCode: 0 Status: OK PackageFile: GenomicDataCommons_1.32.1.tar.gz PackageFileSize: 2.595 MiB