Package: GenomicDataCommons Version: 1.32.1 Command: /Library/Frameworks/R.framework/Resources/bin/R CMD INSTALL GenomicDataCommons StartedAt: 2025-10-13 16:25:37 -0400 (Mon, 13 Oct 2025) EndedAt: 2025-10-13 16:25:50 -0400 (Mon, 13 Oct 2025) EllapsedTime: 12.9 seconds RetCode: 0 Status: OK