Package: GenomicDataCommons Version: 1.32.1 Command: /Library/Frameworks/R.framework/Resources/bin/R CMD build --keep-empty-dirs --no-resave-data GenomicDataCommons StartedAt: 2025-10-14 00:59:53 -0400 (Tue, 14 Oct 2025) EndedAt: 2025-10-14 01:01:27 -0400 (Tue, 14 Oct 2025) EllapsedTime: 94.0 seconds RetCode: 0 Status: OK PackageFile: GenomicDataCommons_1.32.1.tar.gz PackageFileSize: 2.386 MiB