Package: GenomicAlignments Version: 1.44.0 Command: /home/biocbuild/bbs-3.21-bioc/R/bin/R CMD INSTALL GenomicAlignments StartedAt: 2025-10-15 15:23:59 -0400 (Wed, 15 Oct 2025) EndedAt: 2025-10-15 15:24:34 -0400 (Wed, 15 Oct 2025) EllapsedTime: 34.4 seconds RetCode: 0 Status: OK