Package: GenomicAlignments Version: 1.44.0 Command: /home/biocbuild/R/R/bin/R CMD INSTALL GenomicAlignments StartedAt: 2025-10-13 20:38:26 -0000 (Mon, 13 Oct 2025) EndedAt: 2025-10-13 20:39:16 -0000 (Mon, 13 Oct 2025) EllapsedTime: 50.1 seconds RetCode: 0 Status: OK