Package: GenomeInfoDb Version: 1.44.3 Command: /home/biocbuild/R/R/bin/R CMD INSTALL GenomeInfoDb StartedAt: 2025-10-13 20:26:31 -0000 (Mon, 13 Oct 2025) EndedAt: 2025-10-13 20:26:49 -0000 (Mon, 13 Oct 2025) EllapsedTime: 17.4 seconds RetCode: 0 Status: OK