Package: GenomeInfoDb Version: 1.44.3 Command: rm -rf GenomeInfoDb.buildbin-libdir && mkdir GenomeInfoDb.buildbin-libdir && /Users/biocbuild/BBS/utils/build-universal.sh GenomeInfoDb_1.44.3.tar.gz /Library/Frameworks/R.framework/Resources/bin/R GenomeInfoDb.buildbin-libdir StartedAt: 2025-10-15 18:38:47 -0400 (Wed, 15 Oct 2025) EndedAt: 2025-10-15 18:39:04 -0400 (Wed, 15 Oct 2025) EllapsedTime: 16.8 seconds RetCode: 0 Status: OK PackageFile: GenomeInfoDb_1.44.3.tgz PackageFileSize: 3.986 MiB