Package: GeneStructureTools Version: 1.28.0 Command: /home/biocbuild/bbs-3.21-bioc/R/bin/R CMD check --install=check:GeneStructureTools.install-out.txt --library=/home/biocbuild/bbs-3.21-bioc/R/site-library --timings GeneStructureTools_1.28.0.tar.gz StartedAt: 2025-10-15 23:31:04 -0400 (Wed, 15 Oct 2025) EndedAt: 2025-10-15 23:39:29 -0400 (Wed, 15 Oct 2025) EllapsedTime: 505.5 seconds RetCode: 0 Status: OK CheckDir: GeneStructureTools.Rcheck Warnings: 0