Package: GeneStructureTools Version: 1.28.0 Command: /Library/Frameworks/R.framework/Resources/bin/R CMD INSTALL GeneStructureTools StartedAt: 2025-10-13 16:37:28 -0400 (Mon, 13 Oct 2025) EndedAt: 2025-10-13 16:39:17 -0400 (Mon, 13 Oct 2025) EllapsedTime: 109.4 seconds RetCode: 0 Status: OK