Package: GeneStructureTools Version: 1.28.0 Command: rm -rf GeneStructureTools.buildbin-libdir && mkdir GeneStructureTools.buildbin-libdir && /Users/biocbuild/BBS/utils/build-universal.sh GeneStructureTools_1.28.0.tar.gz /Library/Frameworks/R.framework/Resources/bin/R GeneStructureTools.buildbin-libdir StartedAt: 2025-10-14 13:32:25 -0400 (Tue, 14 Oct 2025) EndedAt: 2025-10-14 13:35:21 -0400 (Tue, 14 Oct 2025) EllapsedTime: 176.2 seconds RetCode: 0 Status: OK PackageFile: GeneStructureTools_1.28.0.tgz PackageFileSize: 2.352 MiB