Package: GeneStructureTools Version: 1.28.0 Command: /Library/Frameworks/R.framework/Resources/bin/R CMD INSTALL GeneStructureTools StartedAt: 2025-10-13 18:08:23 -0400 (Mon, 13 Oct 2025) EndedAt: 2025-10-13 18:09:25 -0400 (Mon, 13 Oct 2025) EllapsedTime: 61.7 seconds RetCode: 0 Status: OK