Package: GeneStructureTools Version: 1.28.0 Command: /Library/Frameworks/R.framework/Resources/bin/R CMD check --install=check:GeneStructureTools.install-out.txt --library=/Library/Frameworks/R.framework/Resources/library --no-vignettes --timings GeneStructureTools_1.28.0.tar.gz StartedAt: 2025-10-14 22:33:18 -0400 (Tue, 14 Oct 2025) EndedAt: 2025-10-14 22:41:02 -0400 (Tue, 14 Oct 2025) EllapsedTime: 463.3 seconds RetCode: 0 Status: OK CheckDir: GeneStructureTools.Rcheck Warnings: 0