Package: GeneStructureTools Version: 1.28.0 Command: rm -rf GeneStructureTools.buildbin-libdir && mkdir GeneStructureTools.buildbin-libdir && /Users/biocbuild/BBS/utils/build-universal.sh GeneStructureTools_1.28.0.tar.gz /Library/Frameworks/R.framework/Resources/bin/R GeneStructureTools.buildbin-libdir StartedAt: 2025-10-15 18:37:43 -0400 (Wed, 15 Oct 2025) EndedAt: 2025-10-15 18:38:50 -0400 (Wed, 15 Oct 2025) EllapsedTime: 67.2 seconds RetCode: 0 Status: OK PackageFile: GeneStructureTools_1.28.0.tgz PackageFileSize: 2.353 MiB