Package: GeneSelectMMD Version: 2.52.0 Command: /home/biocbuild/R/R/bin/R CMD INSTALL GeneSelectMMD StartedAt: 2025-10-13 20:24:06 -0000 (Mon, 13 Oct 2025) EndedAt: 2025-10-13 20:24:16 -0000 (Mon, 13 Oct 2025) EllapsedTime: 9.9 seconds RetCode: 0 Status: OK