Package: GeneSelectMMD Version: 2.52.0 Command: /home/biocbuild/R/R/bin/R CMD build --keep-empty-dirs --no-resave-data GeneSelectMMD StartedAt: 2025-10-14 01:04:12 -0000 (Tue, 14 Oct 2025) EndedAt: 2025-10-14 01:04:28 -0000 (Tue, 14 Oct 2025) EllapsedTime: 16.0 seconds RetCode: 0 Status: OK PackageFile: GeneSelectMMD_2.52.0.tar.gz PackageFileSize: 440.1 KiB