Package: GeneSelectMMD Version: 2.52.0 Command: rm -rf GeneSelectMMD.buildbin-libdir && mkdir GeneSelectMMD.buildbin-libdir && /Users/biocbuild/BBS/utils/build-universal.sh GeneSelectMMD_2.52.0.tar.gz /Library/Frameworks/R.framework/Resources/bin/R GeneSelectMMD.buildbin-libdir StartedAt: 2025-04-21 22:36:14 -0400 (Mon, 21 Apr 2025) EndedAt: 2025-04-21 22:36:19 -0400 (Mon, 21 Apr 2025) EllapsedTime: 5.1 seconds RetCode: 0 Status: OK PackageFile: GeneSelectMMD_2.52.0.tgz PackageFileSize: 550.2 KiB