Package: GeneOverlap Version: 1.44.0 Command: /home/biocbuild/R/R/bin/R CMD build --keep-empty-dirs --no-resave-data GeneOverlap StartedAt: 2025-10-14 01:03:15 -0000 (Tue, 14 Oct 2025) EndedAt: 2025-10-14 01:03:24 -0000 (Tue, 14 Oct 2025) EllapsedTime: 9.0 seconds RetCode: 0 Status: OK PackageFile: GeneOverlap_1.44.0.tar.gz PackageFileSize: 352.7 KiB