Package: GeneExpressionSignature Version: 1.54.0 Command: /home/biocbuild/bbs-3.21-bioc/R/bin/R CMD INSTALL GeneExpressionSignature StartedAt: 2025-10-15 15:12:35 -0400 (Wed, 15 Oct 2025) EndedAt: 2025-10-15 15:12:40 -0400 (Wed, 15 Oct 2025) EllapsedTime: 4.7 seconds RetCode: 0 Status: OK