Package: GeneExpressionSignature Version: 1.54.0 Command: /home/biocbuild/R/R/bin/R CMD INSTALL GeneExpressionSignature StartedAt: 2025-10-13 20:24:58 -0000 (Mon, 13 Oct 2025) EndedAt: 2025-10-13 20:25:03 -0000 (Mon, 13 Oct 2025) EllapsedTime: 5.8 seconds RetCode: 0 Status: OK