Package: GeneExpressionSignature Version: 1.54.0 Command: /Library/Frameworks/R.framework/Resources/bin/R CMD build --keep-empty-dirs --no-resave-data GeneExpressionSignature StartedAt: 2025-10-14 00:52:45 -0400 (Tue, 14 Oct 2025) EndedAt: 2025-10-14 00:53:21 -0400 (Tue, 14 Oct 2025) EllapsedTime: 35.9 seconds RetCode: 0 Status: OK PackageFile: GeneExpressionSignature_1.54.0.tar.gz PackageFileSize: 2.545 MiB