Package: GenVisR Version: 1.40.0 Command: /home/biocbuild/R/R/bin/R CMD INSTALL GenVisR StartedAt: 2025-10-13 20:56:07 -0000 (Mon, 13 Oct 2025) EndedAt: 2025-10-13 20:57:21 -0000 (Mon, 13 Oct 2025) EllapsedTime: 73.2 seconds RetCode: 0 Status: OK