Package: GenVisR Version: 1.40.0 Command: /home/biocbuild/R/R/bin/R CMD build --keep-empty-dirs --no-resave-data GenVisR StartedAt: 2025-10-14 01:08:03 -0000 (Tue, 14 Oct 2025) EndedAt: 2025-10-14 01:11:25 -0000 (Tue, 14 Oct 2025) EllapsedTime: 202.0 seconds RetCode: 0 Status: OK PackageFile: GenVisR_1.40.0.tar.gz PackageFileSize: 4.58 MiB