Package: GenProSeq Version: 1.12.0 Command: /Library/Frameworks/R.framework/Resources/bin/R CMD build --keep-empty-dirs --no-resave-data GenProSeq StartedAt: 2025-10-13 19:19:40 -0400 (Mon, 13 Oct 2025) EndedAt: 2025-10-13 19:23:17 -0400 (Mon, 13 Oct 2025) EllapsedTime: 216.4 seconds RetCode: 0 Status: OK PackageFile: GenProSeq_1.12.0.tar.gz PackageFileSize: 2.336 MiB