Package: GeDi Version: 1.4.0 Command: /home/biocbuild/bbs-3.21-bioc/R/bin/R CMD INSTALL GeDi StartedAt: 2025-10-15 15:52:23 -0400 (Wed, 15 Oct 2025) EndedAt: 2025-10-15 15:53:15 -0400 (Wed, 15 Oct 2025) EllapsedTime: 52.2 seconds RetCode: 0 Status: OK