Package: GeDi Version: 1.4.0 Command: /home/biocbuild/R/R/bin/R CMD INSTALL GeDi StartedAt: 2025-10-13 21:10:45 -0000 (Mon, 13 Oct 2025) EndedAt: 2025-10-13 21:12:01 -0000 (Mon, 13 Oct 2025) EllapsedTime: 76.6 seconds RetCode: 0 Status: OK