Package: GWAS.BAYES Version: 1.18.0 Command: /home/biocbuild/R/R/bin/R CMD build --keep-empty-dirs --no-resave-data GWAS.BAYES StartedAt: 2025-10-14 01:32:11 -0000 (Tue, 14 Oct 2025) EndedAt: 2025-10-14 01:36:44 -0000 (Tue, 14 Oct 2025) EllapsedTime: 273.1 seconds RetCode: 0 Status: OK PackageFile: GWAS.BAYES_1.18.0.tar.gz PackageFileSize: 1.394 MiB