Package: GUIDEseq Version: 1.38.0 Command: /home/biocbuild/bbs-3.21-bioc/R/bin/R CMD build --keep-empty-dirs --no-resave-data GUIDEseq StartedAt: 2025-10-15 17:53:45 -0400 (Wed, 15 Oct 2025) EndedAt: 2025-10-15 17:55:24 -0400 (Wed, 15 Oct 2025) EllapsedTime: 99.1 seconds RetCode: 0 Status: OK PackageFile: GUIDEseq_1.38.0.tar.gz PackageFileSize: 5.869 MiB