Package: GUIDEseq Version: 1.38.0 Command: /Library/Frameworks/R.framework/Resources/bin/R CMD build --keep-empty-dirs --no-resave-data GUIDEseq StartedAt: 2025-10-13 19:36:28 -0400 (Mon, 13 Oct 2025) EndedAt: 2025-10-13 19:39:52 -0400 (Mon, 13 Oct 2025) EllapsedTime: 204.0 seconds RetCode: 0 Status: OK PackageFile: GUIDEseq_1.38.0.tar.gz PackageFileSize: 5.868 MiB