Package: GUIDEseq Version: 1.38.0 Command: /Library/Frameworks/R.framework/Resources/bin/R CMD INSTALL GUIDEseq StartedAt: 2025-10-13 18:03:00 -0400 (Mon, 13 Oct 2025) EndedAt: 2025-10-13 18:04:00 -0400 (Mon, 13 Oct 2025) EllapsedTime: 60.1 seconds RetCode: 0 Status: OK