Package: GUIDEseq Version: 1.38.0 Command: rm -rf GUIDEseq.buildbin-libdir && mkdir GUIDEseq.buildbin-libdir && /Users/biocbuild/BBS/utils/build-universal.sh GUIDEseq_1.38.0.tar.gz /Library/Frameworks/R.framework/Resources/bin/R GUIDEseq.buildbin-libdir StartedAt: 2025-10-15 18:48:26 -0400 (Wed, 15 Oct 2025) EndedAt: 2025-10-15 18:49:34 -0400 (Wed, 15 Oct 2025) EllapsedTime: 68.1 seconds RetCode: 0 Status: OK PackageFile: GUIDEseq_1.38.0.tgz PackageFileSize: 6.091 MiB