Package: GSgalgoR Version: 1.18.0 Command: /home/biocbuild/R/R/bin/R CMD INSTALL GSgalgoR StartedAt: 2025-10-13 20:16:45 -0000 (Mon, 13 Oct 2025) EndedAt: 2025-10-13 20:17:39 -0000 (Mon, 13 Oct 2025) EllapsedTime: 53.9 seconds RetCode: 0 Status: OK