Package: GSEAmining Version: 1.18.0 Command: /home/biocbuild/R/R/bin/R CMD INSTALL GSEAmining StartedAt: 2025-10-13 20:22:19 -0000 (Mon, 13 Oct 2025) EndedAt: 2025-10-13 20:22:34 -0000 (Mon, 13 Oct 2025) EllapsedTime: 15.2 seconds RetCode: 0 Status: OK