Package: GSEAmining Version: 1.18.0 Command: /home/biocbuild/R/R/bin/R CMD build --keep-empty-dirs --no-resave-data GSEAmining StartedAt: 2025-10-14 01:30:42 -0000 (Tue, 14 Oct 2025) EndedAt: 2025-10-14 01:31:55 -0000 (Tue, 14 Oct 2025) EllapsedTime: 73.0 seconds RetCode: 0 Status: OK PackageFile: GSEAmining_1.18.0.tar.gz PackageFileSize: 2.652 MiB