Package: GSEABase Version: 1.70.0 Command: /Library/Frameworks/R.framework/Resources/bin/R CMD build --keep-empty-dirs --no-resave-data GSEABase StartedAt: 2025-04-21 16:33:32 -0400 (Mon, 21 Apr 2025) EndedAt: 2025-04-21 16:34:02 -0400 (Mon, 21 Apr 2025) EllapsedTime: 29.3 seconds RetCode: 0 Status: OK PackageFile: GSEABase_1.70.0.tar.gz PackageFileSize: 292.5 KiB