Package: GSALightning Version: 1.36.0 Command: /home/biocbuild/R/R/bin/R CMD INSTALL GSALightning StartedAt: 2025-10-13 20:15:51 -0000 (Mon, 13 Oct 2025) EndedAt: 2025-10-13 20:16:06 -0000 (Mon, 13 Oct 2025) EllapsedTime: 14.9 seconds RetCode: 0 Status: OK