Package: GOfuncR Version: 1.28.0 Command: /home/biocbuild/R/R/bin/R CMD INSTALL GOfuncR StartedAt: 2025-10-13 20:49:32 -0000 (Mon, 13 Oct 2025) EndedAt: 2025-10-13 20:52:00 -0000 (Mon, 13 Oct 2025) EllapsedTime: 148.1 seconds RetCode: 0 Status: OK