Package: GOfuncR Version: 1.28.0 Command: /home/biocbuild/R/R/bin/R CMD build --keep-empty-dirs --no-resave-data GOfuncR StartedAt: 2025-10-14 01:23:10 -0000 (Tue, 14 Oct 2025) EndedAt: 2025-10-14 01:28:34 -0000 (Tue, 14 Oct 2025) EllapsedTime: 324.1 seconds RetCode: 0 Status: OK PackageFile: GOfuncR_1.28.0.tar.gz PackageFileSize: 5.183 MiB