Package: GOTHiC Version: 1.44.0 Command: /home/biocbuild/R/R/bin/R CMD INSTALL GOTHiC StartedAt: 2025-10-13 21:08:29 -0000 (Mon, 13 Oct 2025) EndedAt: 2025-10-13 21:09:23 -0000 (Mon, 13 Oct 2025) EllapsedTime: 54.6 seconds RetCode: 0 Status: OK