Package: GOSemSim Version: 2.34.0 Command: /home/biocbuild/bbs-3.21-bioc/R/bin/R CMD INSTALL GOSemSim StartedAt: 2025-10-15 15:44:04 -0400 (Wed, 15 Oct 2025) EndedAt: 2025-10-15 15:44:28 -0400 (Wed, 15 Oct 2025) EllapsedTime: 23.6 seconds RetCode: 0 Status: OK