Package: GOSemSim Version: 2.34.0 Command: /Library/Frameworks/R.framework/Resources/bin/R CMD build --keep-empty-dirs --no-resave-data GOSemSim StartedAt: 2025-10-13 19:27:11 -0400 (Mon, 13 Oct 2025) EndedAt: 2025-10-13 19:28:06 -0400 (Mon, 13 Oct 2025) EllapsedTime: 55.0 seconds RetCode: 0 Status: OK PackageFile: GOSemSim_2.34.0.tar.gz PackageFileSize: 594.7 KiB