Package: GOSemSim Version: 2.34.0 Command: rm -rf GOSemSim.buildbin-libdir && mkdir GOSemSim.buildbin-libdir && /Users/biocbuild/BBS/utils/build-universal.sh GOSemSim_2.34.0.tar.gz /Library/Frameworks/R.framework/Resources/bin/R GOSemSim.buildbin-libdir StartedAt: 2025-10-14 13:37:46 -0400 (Tue, 14 Oct 2025) EndedAt: 2025-10-14 13:39:05 -0400 (Tue, 14 Oct 2025) EllapsedTime: 79.5 seconds RetCode: 0 Status: OK PackageFile: GOSemSim_2.34.0.tgz PackageFileSize: 1.147 MiB